BEGIN:VCALENDAR
VERSION:2.0
PRODID:-//hacksw/handcal//NONSGML v1.0//EN
CALSCALE:GREGORIAN
BEGIN:VTIMEZONE
TZID:Europe/London
BEGIN:STANDARD
TZNAME:GMT
DTSTART:19710101T020000
TZOFFSETFROM:+0100
TZOFFSETTO:+0000
RRULE:FREQ=YEARLY;BYMONTH=10;BYDAY=-1SU
END:STANDARD
BEGIN:DAYLIGHT
TZNAME:BST
DTSTART:19710101T010000
TZOFFSETFROM:+0000
TZOFFSETTO:+0100
RRULE:FREQ=YEARLY;BYMONTH=3;BYDAY=-1SU
END:DAYLIGHT
END:VTIMEZONE
BEGIN:VEVENT
DTEND;TZID=Europe/London:20130313T000000
UID:https://www.lse.ac.uk/granthaminstitute/?post_type=event&#038;p=4231
DTSTAMP;TZID=Europe/London:20260423T104009Z
LOCATION:LSE
DESCRIPTION:<strong>Speaker:</strong> Reyer Gerlagh\, Tilburg University
<h2>More information</h2>
<a href="https://www.lse.ac.uk/granthaminstitute/wp-content/uploads/2014/03/carbon-prices-thousand-years.pdf">Carbon prices for the next thousand years</a> (seminar paper\, PDF)
<a href="https://www.lse.ac.uk/granthaminstitute/wp-content/uploads/2014/03/simple-formula-social-costs-carbon.pdf">A simple formula predicts the social costs of carbon with remarkable precision</a> (seminar paper\, PDF)
URL;VALUE=URI:https://www.lse.ac.uk/granthaminstitute/events/carbon-prices-over-long-time-horizons/
SUMMARY:Reyer Gerlagh – Carbon prices over long time horizons
DTSTART;TZID=Europe/London:20130313T000000
END:VEVENT
END:VCALENDAR