BEGIN:VCALENDAR
VERSION:2.0
PRODID:-//hacksw/handcal//NONSGML v1.0//EN
CALSCALE:GREGORIAN
BEGIN:VTIMEZONE
TZID:Europe/London
BEGIN:STANDARD
TZNAME:GMT
DTSTART:19710101T020000
TZOFFSETFROM:+0100
TZOFFSETTO:+0000
RRULE:FREQ=YEARLY;BYMONTH=10;BYDAY=-1SU
END:STANDARD
BEGIN:DAYLIGHT
TZNAME:BST
DTSTART:19710101T010000
TZOFFSETFROM:+0000
TZOFFSETTO:+0100
RRULE:FREQ=YEARLY;BYMONTH=3;BYDAY=-1SU
END:DAYLIGHT
END:VTIMEZONE
BEGIN:VEVENT
DTEND;TZID=Europe/London:20221026T200000
UID:https://www.lse.ac.uk/granthaminstitute/?post_type=event&#038;p=61322
DTSTAMP;TZID=Europe/London:20260423T102207Z
LOCATION:Sheikh Zayed Theatre\, New Academic Building\, LSE
DESCRIPTION:<!-- wp:paragraph -->
<p>After striking a deal on fisheries subsidies\, could trade and climate be the next negotiating challenge for the WTO?</p>
<!-- /wp:paragraph -->

<!-- wp:paragraph -->
<p>This event will consider the issues that could be covered in a potential trade and climate negotiating agenda such as subsidies\, liberalisation of goods and services with a positive climate impact\, standards for measuring carbon intensity or the role of border carbon measures. It will look into the potential of tackling those issues in a WTO context either multilaterally or through open plurilateral approaches.</p>
<!-- /wp:paragraph -->

<!-- wp:heading {"level":3} -->
<h3>Speakers</h3>
<!-- /wp:heading -->

<!-- wp:paragraph -->
<p>Ignacio Garcia Bercero is Director in charge of Multilateral Affairs\, Strategy and economic Analysis at DG Trade in the European Commission.</p>
<!-- /wp:paragraph -->

<!-- wp:paragraph -->
<p>Emily Lydgate is a Reader (Senior Associate Professor) in Environmental Law at the University of Sussex and Deputy Director of the UK Trade Policy Observatory\, a partnership between Sussex and Chatham House. Her research focuses on the relationship between environmental regulation and economic integration through trade. She is a Specialist Advisor to the EFRA Committee (UK House of Commons) and has provided expert testimony for a number of Parliamentary Committees.</p>
<!-- /wp:paragraph -->

<!-- wp:heading {"level":3} -->
<h3>Chair</h3>
<!-- /wp:heading -->

<!-- wp:paragraph -->
<p>Julius Sen is an Associate Director and Senior Programme Advisor at LSE Enterprise.</p>
<!-- /wp:paragraph -->

<!-- wp:heading {"level":3} -->
<h3>More about this event</h3>
<!-- /wp:heading -->

<!-- wp:paragraph -->
<p>This public event is free and open to all. No ticket or pre-registration is required. Entry is on a first come\, first served basis. For any queries email <a href="mailto:events@lse.ac.uk">events@lse.ac.uk</a>.</p>
<!-- /wp:paragraph -->

<!-- wp:paragraph -->
<p>The <a href="https://www.lse.ac.uk/granthaminstitute/">Grantham Research Institute on Climate Change and the Environment</a> (<a href="https://twitter.com/GRI_LSE">@gri_lse</a>) is a world-leading centre for policy-relevant research and training on climate change and the environment.</p>
<!-- /wp:paragraph -->

<!-- wp:paragraph -->
<p><a href="https://www.lse.ac.uk/ideas">LSE IDEAS</a> (<a href="https://twitter.com/lseideas">@lseideas</a>) is LSE's foreign policy think tank. Through sustained engagement with policymakers and opinion-formers\, IDEAS provides a forum that informs policy debate and connects academic research with the practice of diplomacy and strategy.</p>
<!-- /wp:paragraph -->

<!-- wp:paragraph -->
<p><strong>Twitter Hashtag for this event: #LSEGlobalTrading</strong></p>
<!-- /wp:paragraph -->
URL;VALUE=URI:https://www.lse.ac.uk/granthaminstitute/events/trade-and-climate-a-negotiating-agenda-for-the-wto/
SUMMARY:Trade and Climate: a negotiating agenda for the WTO?
DTSTART;TZID=Europe/London:20221026T183000
END:VEVENT
END:VCALENDAR