BEGIN:VCALENDAR
VERSION:2.0
PRODID:-//hacksw/handcal//NONSGML v1.0//EN
CALSCALE:GREGORIAN
BEGIN:VTIMEZONE
TZID:Europe/London
BEGIN:STANDARD
TZNAME:GMT
DTSTART:19710101T020000
TZOFFSETFROM:+0100
TZOFFSETTO:+0000
RRULE:FREQ=YEARLY;BYMONTH=10;BYDAY=-1SU
END:STANDARD
BEGIN:DAYLIGHT
TZNAME:BST
DTSTART:19710101T010000
TZOFFSETFROM:+0000
TZOFFSETTO:+0100
RRULE:FREQ=YEARLY;BYMONTH=3;BYDAY=-1SU
END:DAYLIGHT
END:VTIMEZONE
BEGIN:VEVENT
DTEND;TZID=Europe/London:20200127T143000
UID:https://www.lse.ac.uk/granthaminstitute/?post_type=event&#038;p=48710
DTSTAMP;TZID=Europe/London:20260420T014754Z
LOCATION:Graham Wallas Room\, 5th Floor\, Old Building\, LSE.
DESCRIPTION:Attempts at governing ecological crises are just that: attempts. Life is far too unruly to quietly acquiesce to control and management raising uncomfortable questions about how to respond to current anxieties about anticipating the future. By starting from the unruliness and uncontrollability of life\, this paper explores the continuous (re)configurations of humans and non-humans required to accomplish governing through conceptual ideas of boundary making. A focus on boundary making helps create new insights into the complex\, often unpredictable political\, social\, cultural and ecological terrains that result in order to contribute towards a posthuman ethics of environmental governance. Drawing from scholars of science and political ecologists who have long pointed out that knowing is not somehow separate from the worlds we create\, and feminist work on power and recognition\, the paper looks at how boundary making reflects the operation of power across scales. It shows how environmental change programs are caught up in the riotous\, inadvertent contradictions of environmental governance. Action\, imagination\, naming\, and everyday practices create lasting connections\; they bring the world into being in a continuous and dynamic manner demanding that we develop a more than human ethics. Using a case study of Nepal\, the paper works through the entanglements of forests\, user-groups\, geopolitics and efforts at responding to predictions of calamitous change to show how they are complicit in producing the dilemmas we face.

This event is part of the<a href="https://www.lse.ac.uk/geography-and-environment/research/seminar-series/social-life-of-climate-change"> Social Life of Climate Change Seminar Series</a>.

For further information on this event please contact <a href="mailto:k.paprocki@lse.ac.uk">k.paprocki@lse.ac.uk</a>
URL;VALUE=URI:https://www.lse.ac.uk/granthaminstitute/events/unruly-landscapes-of-environmental-change-imagining-a-future-himalaya/
SUMMARY:Unruly landscapes of environmental change: imagining a future Himalaya
DTSTART;TZID=Europe/London:20200127T130000
END:VEVENT
END:VCALENDAR