BEGIN:VCALENDAR
VERSION:2.0
PRODID:-//hacksw/handcal//NONSGML v1.0//EN
CALSCALE:GREGORIAN
BEGIN:VTIMEZONE
TZID:Europe/London
BEGIN:STANDARD
TZNAME:GMT
DTSTART:19710101T020000
TZOFFSETFROM:+0100
TZOFFSETTO:+0000
RRULE:FREQ=YEARLY;BYMONTH=10;BYDAY=-1SU
END:STANDARD
BEGIN:DAYLIGHT
TZNAME:BST
DTSTART:19710101T010000
TZOFFSETFROM:+0000
TZOFFSETTO:+0100
RRULE:FREQ=YEARLY;BYMONTH=3;BYDAY=-1SU
END:DAYLIGHT
END:VTIMEZONE
BEGIN:VEVENT
DTEND;TZID=Europe/London:20210120T140000
UID:https://www.lse.ac.uk/granthaminstitute/?post_type=event&#038;p=52059
DTSTAMP;TZID=Europe/London:20260423T104009Z
LOCATION:
DESCRIPTION:<!-- wp:paragraph -->
<p>Laure de Preux of Imperial College London will present her paper The Co-Pollution Impact of Climate Policy: Evidence from the EU Emissions Trading Scheme. </p>
<!-- /wp:paragraph -->

<!-- wp:paragraph -->
<p><strong>Abstract</strong></p>
<!-- /wp:paragraph -->

<!-- wp:paragraph -->
<p>Carbon dioxide (CO2) emissions are known to cause global climate change but no damage to the local environment. However\, because CO2 is often jointly produced with other substances that pollute the environment\, CO2 abatement may generate ancillary benefits\, especially for human health. Previous research suggests that these co-benefits can offset a substantial share of the economic costs of mitigation policies. This paper lays the groundwork for testing this hypothesis in the context of the European Emissions Trading Scheme (EU ETS) for CO2. We compile a new dataset on discharges of more than 90 different pollutants into air\, water and soil\, at more than 6\,000 ETS regulated installations in 29 European countries. We track installation-level changes in emissions of major air pollutants between 2001 and 2013. We compare those to changes at more than 23\,000 unregulated installations and explore causal attribution. We derive stylized facts for the spatial redistribution of air pollution across European countries and explore correlations with income and demographics. Some implications for efficiency and environmental justice of the EU ETS are discussed.</p>
<!-- /wp:paragraph -->

<!-- wp:paragraph -->
<p>Please email <a href="mailto:gri.events@lse.ac.uk">gri.events@lse.ac.uk</a> with the name of the presenter in order to request the Zoom joining details for this workshop by 5pm on Tuesday 19 January 2021.</p>
<!-- /wp:paragraph -->
URL;VALUE=URI:https://www.lse.ac.uk/granthaminstitute/events/tatiana-filatova/
SUMMARY:The Co-Pollution Impact of Climate Policy: Evidence from the EU Emissions Trading Scheme | Laure de Preux
DTSTART;TZID=Europe/London:20210120T123000
END:VEVENT
END:VCALENDAR