BEGIN:VCALENDAR
VERSION:2.0
PRODID:-//hacksw/handcal//NONSGML v1.0//EN
CALSCALE:GREGORIAN
BEGIN:VTIMEZONE
TZID:Europe/London
BEGIN:STANDARD
TZNAME:GMT
DTSTART:19710101T020000
TZOFFSETFROM:+0100
TZOFFSETTO:+0000
RRULE:FREQ=YEARLY;BYMONTH=10;BYDAY=-1SU
END:STANDARD
BEGIN:DAYLIGHT
TZNAME:BST
DTSTART:19710101T010000
TZOFFSETFROM:+0000
TZOFFSETTO:+0100
RRULE:FREQ=YEARLY;BYMONTH=3;BYDAY=-1SU
END:DAYLIGHT
END:VTIMEZONE
BEGIN:VEVENT
DTEND;TZID=Europe/London:20231019T153000
UID:https://www.lse.ac.uk/granthaminstitute/?post_type=event&#038;p=67621
DTSTAMP;TZID=Europe/London:20260420T171142Z
LOCATION:FAW 9.04\, London School of Economics\, Clement’s Inn\, London WC2A 2AZ
DESCRIPTION:<!-- wp:paragraph -->
<p>Ralph Winkler will be discussing the paper ‘Incentives for Technology Investments in International Climate Policy’.</p>
<!-- /wp:paragraph -->

<!-- wp:paragraph -->
<p><strong>Abstract</strong></p>
<!-- /wp:paragraph -->

<!-- wp:paragraph -->
<p>We develop a simple game-theoretic model to investigate the relationship between greenhouse gas emissions and investments into four broad classes of technologies that are relevant for the mitigation of anthropogenic climate change: (i) carbon efficiency technologies\, (ii) low-carbon technologies\, (iii) emission abatement technologies\, and (iv) climate adaptation technologies. We show that the well-known public good property of emission reductions has repercussions on domestic and global emissions: While better low-carbon and better abatement technologies reduce domestic and global emission\, better carbon efficiency and adaptation technologies increase them. In addition\, indirect effects propagated by the change in equilibrium emissions due to a marginal technological improvement foster investment incentives in case of carbon efficiency and adaptation technologies and reduce them in case of low-carbon and abatement technologies. Surprisingly\, this result holds for both non-cooperative and cooperative international climate policies.</p>
<!-- /wp:paragraph -->

<!-- wp:paragraph -->
<p><strong>Grantham Workshops are only open to LSE researchers and alumni. If you wish to attend the workshop in person or online please sign up to our <a href="https://www.lse.ac.uk/granthaminstitute/grantham-workshop-registration-of-interest/">workshop mailing list.</a></strong></p>
<!-- /wp:paragraph -->
URL;VALUE=URI:https://www.lse.ac.uk/granthaminstitute/events/ralph-winkler-grantham-workshop/
SUMMARY:Incentives for technology investments in international climate policy | Ralph Winkler
DTSTART;TZID=Europe/London:20231019T140000
END:VEVENT
END:VCALENDAR