BEGIN:VCALENDAR
VERSION:2.0
PRODID:-//hacksw/handcal//NONSGML v1.0//EN
CALSCALE:GREGORIAN
BEGIN:VTIMEZONE
TZID:Europe/London
BEGIN:STANDARD
TZNAME:GMT
DTSTART:19710101T020000
TZOFFSETFROM:+0100
TZOFFSETTO:+0000
RRULE:FREQ=YEARLY;BYMONTH=10;BYDAY=-1SU
END:STANDARD
BEGIN:DAYLIGHT
TZNAME:BST
DTSTART:19710101T010000
TZOFFSETFROM:+0000
TZOFFSETTO:+0100
RRULE:FREQ=YEARLY;BYMONTH=3;BYDAY=-1SU
END:DAYLIGHT
END:VTIMEZONE
BEGIN:VEVENT
DTEND;TZID=Europe/London:20260610T200000
UID:https://www.lse.ac.uk/granthaminstitute/?post_type=event&#038;p=85712
DTSTAMP;TZID=Europe/London:20260422T140239Z
LOCATION: Sheikh Zayed Theatre - Cheng Kin Ku Building\, LSE\, 54 Lincoln's Inn Fields\, London\, WC2A 3LJ
DESCRIPTION:<!-- wp:paragraph -->
<p>In this public event\, David Shukman\, the former BBC Science Editor\, will speak to Emma Howard Boyd\, the former chair of the Environment Agency and the London Climate Resilience Review\, about how the UK is responding to the growing impacts of climate change. </p>
<!-- /wp:paragraph -->

<!-- wp:paragraph -->
<p>David will draw on his new book\, <em>The Response: A Story of Fire and Flood in Britain’s New World of Extremes</em>\, which investigates how the country is dangerously unprepared for the climate impacts being experienced now\, let alone those to come. Through extensive interviews\, FOIs and new research\, David’s book reveals how lives at being put at risk through a lack of awareness and joined-up thinking. Story-based\, the book tries to provide a new and more pragmatic framing of climate change that might cross the polarised divide.</p>
<!-- /wp:paragraph -->

<!-- wp:heading -->
<h2 class="wp-block-heading" id="p85dd6qf-2-1">Meet our speakers and chair</h2>
<!-- /wp:heading -->

<!-- wp:heading {"level":3} -->
<h3 class="wp-block-heading">Speaker</h3>
<!-- /wp:heading -->

<!-- wp:paragraph -->
<p><a href="https://davidshukman.com/about/" type="link" id="https://davidshukman.com/about/">David Shukman</a> is a British journalist\, author and science broadcaster with over 40 years of experience\, best known for his long career at the BBC and his authoritative reporting on science and environmental issues. After joining the BBC in 1983\, he held a range of senior roles including World Affairs Correspondent\, Environment and Science Correspondent and became the BBC’s first Science Editor in 2012\, a position he held until leaving the organisation in late 2021 to work as an independent consultant. A leading voice on climate change\, sustainability and biodiversity loss\, he is a sought‑after international speaker whose engaging talks draw on deep journalistic insight. He has also authored several bestselling books on climate change\, science and global challenges\, and his work has featured in major media outlets such as the BBC\, The Guardian\, The Times and The Telegraph.</p>
<!-- /wp:paragraph -->

<!-- wp:heading -->
<h2 class="wp-block-heading" id="feedback-heading">Chair</h2>
<!-- /wp:heading -->

<!-- wp:paragraph -->
<p><a href="https://www.gov.uk/government/people/emma-howard-boyd" type="link" id="https://www.gov.uk/government/people/emma-howard-boyd">Emma Howard Boyd</a> has worked extensively on environmental policy\, climate resilience and sustainable finance. She served as Chair of the Environment Agency for England from 2016 to 2022 and was an ex officio board member of the Department for Environment\, Food and Rural Affairs during the same period. Appointed by the Mayor of London\, she chaired the London Climate Resilience Review\, publishing recommendations in July 2024 to support the city’s response to the impacts of climate change. Emma currently chairs ClientEarth’s Group Board and ClimateArc\, co‑chairs Climate Resilience for All\, is a member of the Supervisory Board of the European Climate Foundation and is a Visiting Professor in Practice at the Grantham Research Institute.<br></p>
<!-- /wp:paragraph -->

<!-- wp:heading -->
<h2 class="wp-block-heading">How to attend</h2>
<!-- /wp:heading -->

<!-- wp:paragraph -->
<p>To attend this in-person event\, please <a href="https://www.tickettailor.com/events/granthamresearchinstitute/2178973" type="link" id="https://www.tickettailor.com/events/granthamresearchinstitute/2178973">register in advance here</a>.</p>
<!-- /wp:paragraph -->
URL;VALUE=URI:https://www.lse.ac.uk/granthaminstitute/events/overheating-is-the-uk-failing-to-respond-to-the-impacts-of-climate-change/
SUMMARY:Overheating: is the UK failing to respond to the impacts of climate change?
DTSTART;TZID=Europe/London:20260610T183000
END:VEVENT
END:VCALENDAR