BEGIN:VCALENDAR
VERSION:2.0
PRODID:-//hacksw/handcal//NONSGML v1.0//EN
CALSCALE:GREGORIAN
BEGIN:VTIMEZONE
TZID:Europe/London
BEGIN:STANDARD
TZNAME:GMT
DTSTART:19710101T020000
TZOFFSETFROM:+0100
TZOFFSETTO:+0000
RRULE:FREQ=YEARLY;BYMONTH=10;BYDAY=-1SU
END:STANDARD
BEGIN:DAYLIGHT
TZNAME:BST
DTSTART:19710101T010000
TZOFFSETFROM:+0000
TZOFFSETTO:+0100
RRULE:FREQ=YEARLY;BYMONTH=3;BYDAY=-1SU
END:DAYLIGHT
END:VTIMEZONE
BEGIN:VEVENT
DTEND;TZID=Europe/London:20220216T173000
UID:https://www.lse.ac.uk/granthaminstitute/?post_type=event&#038;p=56327
DTSTAMP;TZID=Europe/London:20260422T183328Z
LOCATION:Online (via Zoom)
DESCRIPTION:<!-- wp:paragraph -->
<p>Michael Anderson is Professor of Agricultural and Resource Economics at the University of California\, Berkeley. Michael will be presenting his paper ‘Uber and Alcohol-Related Traffic Fatalities’:</p>
<!-- /wp:paragraph -->

<!-- wp:paragraph -->
<p><strong>Abstract</strong></p>
<!-- /wp:paragraph -->

<!-- wp:paragraph -->
<p>Previous studies of the effect of ridesharing on alcohol-related traffic fatalities have yielded inconsistent\, often contradictory conclusions. In this paper we revisit this question using proprietary data from Uber measuring monthly rideshare activity at the Census tract level. Most previous studies are based on publicly-available information about Uber entry dates into US cities\, but we show that an indicator variable for whether Uber is available is a poor measure of rideshare activity — for example\, it explains less than 3% of the tract-level variation in ridesharing\, reflecting the enormous amount of variation both within and across cities. Using entry we find inconsistent and statistically insignificant estimates. However\, when we use the more detailed proprietary data\, we find a robust negative impact of ridesharing on alcohol-related traffic fatalities. Impacts concentrate during nights and weekends and are robust across a range of alternative specifications. Overall\, our results imply that ridesharing has decreased US alcohol-related traffic fatalities by 6.1% and reduced total US traffic fatalities by 4.0%. Based on conventional estimates of the value of statistical life the annual life-saving benefits range from $2.3 to $5.4 billion. Back-of-the-envelope calculations suggest that these benefits may be of similar magnitude to producer surplus captured by Uber shareholders or consumer surplus captured by Uber riders.</p>
<!-- /wp:paragraph -->

<!-- wp:paragraph -->
<p>Please email <a href="mailto:gri.events@lse.ac.uk"><strong>gri.events@lse.ac.uk</strong></a>  to request the Zoom joining details for this workshop by by 5pm on Tuesday\, 15<sup>th</sup> February 2022.</p>
<!-- /wp:paragraph -->
URL;VALUE=URI:https://www.lse.ac.uk/granthaminstitute/events/michael-anderson-university-of-california-berkeley/
SUMMARY:Uber and Alcohol-Related Traffic Fatalities | Michael Anderson
DTSTART;TZID=Europe/London:20220216T163000
END:VEVENT
END:VCALENDAR