BEGIN:VCALENDAR
VERSION:2.0
PRODID:-//hacksw/handcal//NONSGML v1.0//EN
CALSCALE:GREGORIAN
BEGIN:VTIMEZONE
TZID:Europe/London
BEGIN:STANDARD
TZNAME:GMT
DTSTART:19710101T020000
TZOFFSETFROM:+0100
TZOFFSETTO:+0000
RRULE:FREQ=YEARLY;BYMONTH=10;BYDAY=-1SU
END:STANDARD
BEGIN:DAYLIGHT
TZNAME:BST
DTSTART:19710101T010000
TZOFFSETFROM:+0000
TZOFFSETTO:+0100
RRULE:FREQ=YEARLY;BYMONTH=3;BYDAY=-1SU
END:DAYLIGHT
END:VTIMEZONE
BEGIN:VEVENT
DTEND;TZID=Europe/London:20250122T110000
UID:https://www.lse.ac.uk/granthaminstitute/?post_type=event&#038;p=76502
DTSTAMP;TZID=Europe/London:20260420T135854Z
LOCATION:Online (via Zoom)
DESCRIPTION:<!-- wp:embed {"url":"https://www.youtube.com/watch?v=1ycHF_V1ACE"\,"type":"video"\,"providerNameSlug":"youtube"\,"responsive":true\,"className":"wp-embed-aspect-16-9 wp-has-aspect-ratio"} -->
<figure class="wp-block-embed is-type-video is-provider-youtube wp-block-embed-youtube wp-embed-aspect-16-9 wp-has-aspect-ratio"><div class="wp-block-embed__wrapper">
https://www.youtube.com/watch?v=1ycHF_V1ACE
</div></figure>
<!-- /wp:embed -->

<!-- wp:paragraph -->
<p>In April 2024\, the European Court of Human Rights delivered a pivotal ruling in the case of KlimaSeniorinnen and Others v. Switzerland. The decision has been hailed by legal scholars as a landmark judgment\, one that may “transform” climate litigation in Europe and beyond (Bönnemann & Tigre). However\, nine months on\, questions about the real-world impact of the judgment remain unanswered. </p>
<!-- /wp:paragraph -->

<!-- wp:paragraph -->
<p>The ruling affirmed that climate change poses a direct and substantial threat to human rights and cemented the obligation of states to undertake effective climate action. On the evidence before it\, the Court held that there were several “critical lacunae” in Switzerland’s climate action. </p>
<!-- /wp:paragraph -->

<!-- wp:paragraph -->
<p>In October 2024\, the Swiss government submitted an action report in response to the decision. It argues that\, thanks to measures agreed since the Court issued its judgment\, Switzerland is now compliant with the Court’s requirements. This position is disputed by lawyers for the plaintiffs. This event explored the background to the case and what might happen next\, picking over the thorny issues raised by the case and Switzerland’s response. Speakers also considered how this case fits into the broader landscape of climate litigation cases against states (known as “government framework cases”)\, and its implications for the effectiveness of climate litigation as a tool for influencing climate governance.</p>
<!-- /wp:paragraph -->

<!-- wp:heading {"level":3} -->
<h3 class="wp-block-heading">Speakers</h3>
<!-- /wp:heading -->

<!-- wp:list -->
<ul class="wp-block-list"><!-- wp:list-item -->
<li><strong>Kate Higham</strong>\, Senior Policy Fellow\, Grantham Research Institute (Chair)</li>
<!-- /wp:list-item -->

<!-- wp:list-item -->
<li><strong>Floris Tan\,</strong> Senior Legal Associate at the Climate Litigation Network</li>
<!-- /wp:list-item -->

<!-- wp:list-item -->
<li><strong>Başak Çalı</strong>\, Professor of International Law\, Oxford Bonavero Institute of Human Rights</li>
<!-- /wp:list-item -->

<!-- wp:list-item -->
<li><strong>Vetle Magne Seierstad</strong>\, Legal Advisor\, Norwegian Human Rights Institution (NHRI)</li>
<!-- /wp:list-item --></ul>
<!-- /wp:list -->
URL;VALUE=URI:https://www.lse.ac.uk/granthaminstitute/events/klimaseniorinnen-v-switzerland-what-happens-next-exploring-the-pathways-to-implementation-and-compliance/
SUMMARY:KlimaSeniorinnen v Switzerland: what happens next? Exploring the pathways to implementation and compliance – video
DTSTART;TZID=Europe/London:20250122T100000
END:VEVENT
END:VCALENDAR