BEGIN:VCALENDAR
VERSION:2.0
PRODID:-//hacksw/handcal//NONSGML v1.0//EN
CALSCALE:GREGORIAN
BEGIN:VTIMEZONE
TZID:Europe/London
BEGIN:STANDARD
TZNAME:GMT
DTSTART:19710101T020000
TZOFFSETFROM:+0100
TZOFFSETTO:+0000
RRULE:FREQ=YEARLY;BYMONTH=10;BYDAY=-1SU
END:STANDARD
BEGIN:DAYLIGHT
TZNAME:BST
DTSTART:19710101T010000
TZOFFSETFROM:+0000
TZOFFSETTO:+0100
RRULE:FREQ=YEARLY;BYMONTH=3;BYDAY=-1SU
END:DAYLIGHT
END:VTIMEZONE
BEGIN:VEVENT
DTEND;TZID=Europe/London:20240130T130000
UID:https://www.lse.ac.uk/granthaminstitute/?post_type=event&#038;p=69484
DTSTAMP;TZID=Europe/London:20260419T231922Z
LOCATION:LSE Campus
DESCRIPTION:<!-- wp:paragraph -->
<p>Climate suits against corporations are becoming an increasing area of scholarly focus. But they present complex questions for both climate policy\, and for tort theory. In this presentation\, Sam Bookman will use the New Zealand case of Smith v Fonterra to unpack how climate cases fit within the bigger picture of tort law generally\, and common law public nuisance in particular. To what extent do these suits fit within the pattern of "relational wrongs"\, the primary basis for tort liability? Sam will argue that three features of climate change and climate science - climate presentism\; attribution science\; and our developing understanding of carbon majors' historical emissions - have significantly shifted the case for tort liability in recent years. While many challenges remain\, the conceptual barriers to public nuisance liability are rapidly dissolving.</p>
<!-- /wp:paragraph -->

<!-- wp:paragraph -->
<p>Sam Bookman is a fellow at the Edmond & Lily Safra Center for Ethics at Harvard University\, a SJD Candidate at Harvard Law School\, and Adjunct Professor at Boston College. His research focuses on the intersection of environmental law and constitutional law\, both in the United States and abroad. As a Senior Staff Attorney at the Cyrus R. Vance Center for International Justice\, he regularly advises and represents clients before international tribunals. Sam qualified in both New York and New Zealand\, where he clerked for the country's Chief District Court Judge.</p>
<!-- /wp:paragraph -->

<!-- wp:paragraph -->
<p><strong>This event is open to all LSE researchers and policy staff. No pre-registration required to attend the event.  If you wish to attend please email <a href="mailto:Gri.Events@lse.ac.uk">Gri.Events@lse.ac.uk</a>.</strong></p>
<!-- /wp:paragraph -->
URL;VALUE=URI:https://www.lse.ac.uk/granthaminstitute/events/greenhouse-gases-as-relational-wrongs-smith-v-fonterra-and-public-nuisance-climate-suits/
SUMMARY:Greenhouse gases as relational wrongs? Smith v Fonterra and public nuisance climate suits
DTSTART;TZID=Europe/London:20240130T120000
END:VEVENT
END:VCALENDAR