BEGIN:VCALENDAR
VERSION:2.0
PRODID:-//hacksw/handcal//NONSGML v1.0//EN
CALSCALE:GREGORIAN
BEGIN:VTIMEZONE
TZID:Europe/London
BEGIN:STANDARD
TZNAME:GMT
DTSTART:19710101T020000
TZOFFSETFROM:+0100
TZOFFSETTO:+0000
RRULE:FREQ=YEARLY;BYMONTH=10;BYDAY=-1SU
END:STANDARD
BEGIN:DAYLIGHT
TZNAME:BST
DTSTART:19710101T010000
TZOFFSETFROM:+0000
TZOFFSETTO:+0100
RRULE:FREQ=YEARLY;BYMONTH=3;BYDAY=-1SU
END:DAYLIGHT
END:VTIMEZONE
BEGIN:VEVENT
DTEND;TZID=Europe/London:20180307T140000
UID:https://www.lse.ac.uk/granthaminstitute/?post_type=event&#038;p=28966
DTSTAMP;TZID=Europe/London:20260425T120005Z
LOCATION:London School of Economics\, Tower 2\, Room 9.04\, Clement's Inn Passage\, London\, WC2A 2AZ
DESCRIPTION:This workshop will be given by <a href="https://www.lse.ac.uk/granthaminstitute/profile/alon-carmel/">Alon Carmel</a>\, NERA Economics Senior Consultant and Grantham Research Institute Visiting Fellow.

Alon will talk about the role of renewable technologies in the energy revolution that is sweeping the globe\, and the particular challenges facing wind and solar projects at the ‎cusp of maturing into a non-subsidy\, market competitive source of electricity. ‎Alon will share his experiences of having designed the current vintage of market based subsidy regime for renewable energy - the Contract for Difference and auctions for renewable energy subsidy contracts. He will also draw on his experience advising energy companies\, developers and financial investors on renewable energy risks\, financing costs\, market modelling and the regulatory environment.

 
URL;VALUE=URI:https://www.lse.ac.uk/granthaminstitute/events/grantham-workshop-michal-nachmany/
SUMMARY:Grantham Workshop | Beyond subsidy? The economic challenges of financing renewable energy projects
DTSTART;TZID=Europe/London:20180307T123000
END:VEVENT
END:VCALENDAR