BEGIN:VCALENDAR
VERSION:2.0
PRODID:-//hacksw/handcal//NONSGML v1.0//EN
CALSCALE:GREGORIAN
BEGIN:VTIMEZONE
TZID:Europe/London
BEGIN:STANDARD
TZNAME:GMT
DTSTART:19710101T020000
TZOFFSETFROM:+0100
TZOFFSETTO:+0000
RRULE:FREQ=YEARLY;BYMONTH=10;BYDAY=-1SU
END:STANDARD
BEGIN:DAYLIGHT
TZNAME:BST
DTSTART:19710101T010000
TZOFFSETFROM:+0000
TZOFFSETTO:+0100
RRULE:FREQ=YEARLY;BYMONTH=3;BYDAY=-1SU
END:DAYLIGHT
END:VTIMEZONE
BEGIN:VEVENT
DTEND;TZID=Europe/London:20150701T000000
UID:https://www.lse.ac.uk/granthaminstitute/?post_type=event&#038;p=12336
DTSTAMP;TZID=Europe/London:20260424T021558Z
LOCATION:LSE\, TW2.9.05
DESCRIPTION:Charles "Chuck" F. Mason\, H. A. "Dave" True\, Jr. Chair in Petroleum and Natural Gas Economics in the Department of Economics and Finance at the University of Wyoming\, will be the speaker for this seminar.
URL;VALUE=URI:https://www.lse.ac.uk/granthaminstitute/events/grantham-workshop-charles-f-mason/
SUMMARY:Grantham Workshop | Charles F. Mason ‘What’s in the Secret Sauce? An Economic Evaluation of Hydraulic Fracturing’
DTSTART;TZID=Europe/London:20150701T000000
END:VEVENT
END:VCALENDAR