BEGIN:VCALENDAR
VERSION:2.0
PRODID:-//hacksw/handcal//NONSGML v1.0//EN
CALSCALE:GREGORIAN
BEGIN:VTIMEZONE
TZID:Europe/London
BEGIN:STANDARD
TZNAME:GMT
DTSTART:19710101T020000
TZOFFSETFROM:+0100
TZOFFSETTO:+0000
RRULE:FREQ=YEARLY;BYMONTH=10;BYDAY=-1SU
END:STANDARD
BEGIN:DAYLIGHT
TZNAME:BST
DTSTART:19710101T010000
TZOFFSETFROM:+0000
TZOFFSETTO:+0100
RRULE:FREQ=YEARLY;BYMONTH=3;BYDAY=-1SU
END:DAYLIGHT
END:VTIMEZONE
BEGIN:VEVENT
DTEND;TZID=Europe/London:20230308T153000
UID:https://www.lse.ac.uk/granthaminstitute/?post_type=event&#038;p=64315
DTSTAMP;TZID=Europe/London:20260421T185107Z
LOCATION:FAW 9.04\, London School of Economics\, Clement’s Inn\, London WC2A 2AZ
DESCRIPTION:<!-- wp:paragraph -->
<p><strong>Nikhil Anand is Associate Professor at the Department of Anthropology\, University of Pennsylvania</strong>.</p>
<!-- /wp:paragraph -->

<!-- wp:paragraph -->
<p>In this paper\, Anand examines the making of Mumbai’s Coastal Road Project. How might we account for the production of a highway in a climate changed city\, one that it is situated on made-up land that fills an increasingly restive\, rising sea? Thinking with Amitav Ghosh’s <em>The Great Derangement</em> (2016)\, he draws attention to the interests\, aesthetics and technologies with which the road and is made durable. He argues that Mumbai Coastal Road is <em>not</em> made with “rational” plans\, designs and studies of urban infrastructure.  It is mobilized by the aesthetics of modernity (Ghertner 2015) and particular “habits of thought” (Benedict 1934) that privilege\, valorize and assume the possibility of bourgeois regularity in the city\; a deeply <em>felt</em> orientation and mode of intervening in the world that continues to produce the climate crisis\, both in Mumbai and beyond. </p>
<!-- /wp:paragraph -->

<!-- wp:paragraph -->
<p>This event is part of the Social Life of Climate Change Seminar Series. These research seminars are interdisciplinary discussions around contemporary debates in the humanistic social sciences of climate change and the environment. Events take multiple formats\, including standard seminar format as well as more engaged discussions of relevant readings and works in progress.</p>
<!-- /wp:paragraph -->

<!-- wp:paragraph -->
<p>If you would like to attend this seminar please email <a href="mailto:geog.comms@lse.ac.uk">geog.comms@lse.ac.uk</a>.</p>
<!-- /wp:paragraph -->
URL;VALUE=URI:https://www.lse.ac.uk/granthaminstitute/events/durable-derangements-the-making-of-mumbais-coastal-road-nikhil-anand/
SUMMARY:Durable Derangements: The Making of Mumbai’s Coastal Road | Nikhil Anand
DTSTART;TZID=Europe/London:20230308T140000
END:VEVENT
END:VCALENDAR