BEGIN:VCALENDAR
VERSION:2.0
PRODID:-//hacksw/handcal//NONSGML v1.0//EN
CALSCALE:GREGORIAN
BEGIN:VTIMEZONE
TZID:Europe/London
BEGIN:STANDARD
TZNAME:GMT
DTSTART:19710101T020000
TZOFFSETFROM:+0100
TZOFFSETTO:+0000
RRULE:FREQ=YEARLY;BYMONTH=10;BYDAY=-1SU
END:STANDARD
BEGIN:DAYLIGHT
TZNAME:BST
DTSTART:19710101T010000
TZOFFSETFROM:+0000
TZOFFSETTO:+0100
RRULE:FREQ=YEARLY;BYMONTH=3;BYDAY=-1SU
END:DAYLIGHT
END:VTIMEZONE
BEGIN:VEVENT
DTEND;TZID=Europe/London:20201125T000014
UID:https://www.lse.ac.uk/granthaminstitute/?post_type=event&#038;p=51903
DTSTAMP;TZID=Europe/London:20210705T172547Z
LOCATION:Online via Zoom
DESCRIPTION:<!-- wp:paragraph -->
<p>Further details of this seminar will be published nearer the time.</p>
<!-- /wp:paragraph -->

<!-- wp:paragraph -->
<p>Please email <a href="mailto:gri.events@lse.ac.uk">gri.events@lse.ac.uk</a> with the name of the presenter in order to request the Zoom joining details for this seminar by 5pm on Tuesday 24th November 2020.</p>
<!-- /wp:paragraph -->
URL;VALUE=URI:https://www.lse.ac.uk/granthaminstitute/events/anna-creti-universite-paris-dauphine/
SUMMARY:Triggering Reduction of Imported Emissions in the EU | Anna Creti\, Université Paris Dauphine
DTSTART;TZID=Europe/London:20201125T000012
END:VEVENT
END:VCALENDAR