BEGIN:VCALENDAR
VERSION:2.0
PRODID:-//hacksw/handcal//NONSGML v1.0//EN
CALSCALE:GREGORIAN
BEGIN:VTIMEZONE
TZID:Europe/London
BEGIN:STANDARD
TZNAME:GMT
DTSTART:19710101T020000
TZOFFSETFROM:+0100
TZOFFSETTO:+0000
RRULE:FREQ=YEARLY;BYMONTH=10;BYDAY=-1SU
END:STANDARD
BEGIN:DAYLIGHT
TZNAME:BST
DTSTART:19710101T010000
TZOFFSETFROM:+0000
TZOFFSETTO:+0100
RRULE:FREQ=YEARLY;BYMONTH=3;BYDAY=-1SU
END:DAYLIGHT
END:VTIMEZONE
BEGIN:VEVENT
DTEND;TZID=Europe/London:20230620T170000
UID:https://www.lse.ac.uk/granthaminstitute/?post_type=event&#038;p=63879
DTSTAMP;TZID=Europe/London:20260420T235018Z
LOCATION:LSE campus\, London
DESCRIPTION:<!-- wp:paragraph -->
<p>We are pleased to announce that the next installment of our Workshop in Environmental Economics will take place on 19-20 June 2023.</p>
<!-- /wp:paragraph -->

<!-- wp:paragraph -->
<p>This year it is co-organised by the London School of Economics\, Imperial College and King’s College London and will be held in person at LSE.</p>
<!-- /wp:paragraph -->

<!-- wp:paragraph -->
<p>The programme will consist of full paper presentations and a session of egg-timer presentations for early career researchers (PhDs/Postdocs). We will also have a keynote talk by Prof Lucas Davis (UC Berkeley).</p>
<!-- /wp:paragraph -->

<!-- wp:paragraph -->
<p>The workshop will bring together top scholars from around the world to share their latest research in environmental\, resource and energy economics. The workshop is also a great platform to identify areas where further academic work is needed and to foster new collaborations. </p>
<!-- /wp:paragraph -->

<!-- wp:paragraph -->
<p>Invited speakers are expected to participate in the entire 2-day workshop. There is no fee for attending\, and we will cover and arrange accommodation for invited speakers. Meals\, snacks\, and drinks will also be provided free of charge during the workshop. Participants are responsible for paying for and arranging their travel arrangements (flights/trains). </p>
<!-- /wp:paragraph -->

<!-- wp:paragraph -->
<p>Paper (and extended abstract) submissions are due Wednesday 1 February 2023 (by midnight London time). Authors will be notified of acceptance by Wednesday 1 March. To submit a paper or extended abstract\, please fill out the <a href="https://forms.gle/wyHNtfoDkmjkXuXV6">following form</a>. </p>
<!-- /wp:paragraph -->

<!-- wp:paragraph -->
<p><strong>Attending the workshop</strong></p>
<!-- /wp:paragraph -->

<!-- wp:paragraph -->
<p>Workshop attendance is primarily targeted at LSE\, Imperial and King’s faculty\, postdocs\, and research students. However\, we are happy to extend the invitations to a few more external guests. Due to space constraints\, registrations are limited to 50 people\; we will\, therefore\, unlikely be able to accept all requests from externals.</p>
<!-- /wp:paragraph -->

<!-- wp:paragraph -->
<p>If you’re interested in attending (local affiliate or external)\, please fill out our <a href="https://forms.gle/giDkijcjC3STWT1AA">registration form</a> by 15 May 2023. We will confirm your registration by 20 May 2023.  </p>
<!-- /wp:paragraph -->

<!-- wp:paragraph -->
<p>Attendants are expected to participate in the entire 2-day workshop. There is no fee for attending. </p>
<!-- /wp:paragraph -->

<!-- wp:paragraph -->
<p><strong>Organisers</strong></p>
<!-- /wp:paragraph -->

<!-- wp:paragraph -->
<p><a href="http://eugeniedugoua.com/">Eugenie Dugoua</a> (LSE Geography & Environment\; LSE Grantham Research Institute)</p>
<!-- /wp:paragraph -->

<!-- wp:paragraph -->
<p><a href="https://sites.google.com/view/karlykuralbayeva">Karly Kuralbayeva</a> (King’s College London\; LSE Grantham Research Institute)</p>
<!-- /wp:paragraph -->

<!-- wp:paragraph -->
<p><a href="https://mondpanther.github.io/wwwmondpanther/">Ralf Martin</a> (Imperial College London\; LSE Grantham Research Institute)</p>
<!-- /wp:paragraph -->

<!-- wp:paragraph -->
<p><a href="https://sites.google.com/site/sefijroth/home">Sefi Roth</a> (LSE Geography & Environment\; LSE Grantham Research Institute)</p>
<!-- /wp:paragraph -->

<!-- wp:paragraph -->
<p><strong>Scientific committee</strong></p>
<!-- /wp:paragraph -->

<!-- wp:paragraph -->
<p>Clare Balboni (MIT/UCL)<br>Gharad Bryan (LSE Economics)<br>Robin Burgess (LSE Economics)<br>Tim Foreman (King's College)<br>Elisabeth Gottsbauer (LSE Grantham Research Institute)<br>Steven Jarvis (LSE Geography & Environment)<br>Aurélien Saussay (LSE Grantham Research Institute)<br>Hendrik Wolff (LSE Geography & Environment)</p>
<!-- /wp:paragraph -->

<!-- wp:paragraph -->
<p>View previous programmes: <a href="https://docs.google.com/document/d/1AaAzF2jvNccm1aYxc2Dv2X9WmElAF1EJ/edit">2022</a>\, <a href="https://docs.google.com/document/d/1n-0Ymhi8t2qKiBMHflqFfOTuXc0YF9JPwsPXm6VdLO8/edit">2021</a>\, <a href="https://www.dropbox.com/s/56nratgs7p7h343/WorkshopProgrammeWebsite.pdf?dl=0">2020</a>\, <a href="https://www.lse.ac.uk/geography-and-environment/assets/documents/2019-ebrd-lse-programme-new.pdf">2019</a>\, <a href="https://www.lse.ac.uk/geography-and-environment/assets/documents/2018-workshop-in-environmental-and-development-economics.pdf">2018</a></p>
<!-- /wp:paragraph -->
URL;VALUE=URI:https://www.lse.ac.uk/granthaminstitute/events/6th-annual-lse-imperial-kings-workshop-in-environmental-economics/
SUMMARY:6th Annual LSE/Imperial/King’s workshop in Environmental Economics
DTSTART;TZID=Europe/London:20230619T090000
END:VEVENT
END:VCALENDAR